BEGIN:VCALENDAR
VERSION:2.0
PRODID:-//League of Professional Theatre Women - ECPv4.2.7//NONSGML v1.0//EN
CALSCALE:GREGORIAN
METHOD:PUBLISH
X-WR-CALNAME:League of Professional Theatre Women
X-ORIGINAL-URL:https://archive.theatrewomen.org
X-WR-CALDESC:Events for League of Professional Theatre Women
BEGIN:VEVENT
DTSTART;TZID=America/New_York:20140424T190000
DTEND;TZID=America/New_York:20140424T200000
DTSTAMP:20260425T133652
CREATED:20141212T042625
LAST-MODIFIED:20141212T222954
UID:3482-1398366000-1398369600@archive.theatrewomen.org
SUMMARY:World Theatre Day
DESCRIPTION:April 24th\n7:00 – 8:00 PM\nTheaterlab\n357 West 36th St. 3rd Floor\nbetween 8th/9th Avenues\nNew York\, NY 10018\nExplore the process of poetry and painting with poet and artist\, Harriet Slaughter actress\, singer\, dancer\, arts administrator.  As former Co-President of the League of Professional Theatre Women\, she co-produced the Women in Theatre CUNY TV series for 5 years\, was photo editor of the League’s Women in Theatre magazine\, served as Project Coordinator for  the 2008 Curtain Call at the New York Public Library at Lincoln Center and created the LPTW Oral History Exhibition as part of the League’s 30th Anniversary celebration at the same institution.\n\n \n\nShe will demonstrate how poetry inspires painting and how painting influences the written word. Selections from her new book\, ARS POETICA  will be read. In honor of Shakespeare’s birthday participants will share their favorite quote and close with a champagne toast to process and poetica!\n\nThis is a FREE event!  To reserve a seat please contact Frances McGarry\, Co-Chair Salon Series franceslmcgarry@gmail.com
URL:https://archive.theatrewomen.org/event/world-theatre-day-march-27-2014/
LOCATION:357 West 36th Street\, 3rd Floor\, New York\, NY\, 10018\, United States
GEO:40.7545052;-73.9946137
X-APPLE-STRUCTURED-LOCATION;VALUE=URI;X-ADDRESS=357 West 36th Street 3rd Floor New York NY 10018 United States;X-APPLE-RADIUS=500;X-TITLE=357 West 36th Street\, 3rd Floor:geo:-73.9946137,40.7545052
END:VEVENT
END:VCALENDAR