BEGIN:VCALENDAR
VERSION:2.0
PRODID:-//League of Professional Theatre Women - ECPv4.2.7//NONSGML v1.0//EN
CALSCALE:GREGORIAN
METHOD:PUBLISH
X-WR-CALNAME:League of Professional Theatre Women
X-ORIGINAL-URL:https://archive.theatrewomen.org
X-WR-CALDESC:Events for League of Professional Theatre Women
BEGIN:VEVENT
DTSTART;TZID=America/New_York:20150609T173000
DTEND;TZID=America/New_York:20150609T190000
DTSTAMP:20260424T195038
CREATED:20150528T162851
LAST-MODIFIED:20150528T162851
UID:4066-1433871000-1433876400@archive.theatrewomen.org
SUMMARY:Women Stage the World Equality Parade
DESCRIPTION:Join the Equality Parade!\nJune 9 th Theatre District 6 pm\nBreezeway between 50th & 51st By Circle in the Square\nGATHER: 5:30  PARADE BEGINS: 6:00\n\nRain or Shine ~ ALL ARE WELCOME\nThe parade is suffragette inspired and involves sashes and signs. Dress as your favorite woman in theatre history.  Wear all white\, black with purple\, or just come as you are.\nJOIN US\nAs we raise our voices-as we raise awareness as we raise the curtain on a new day of opportunity for women in theatre.\nLearn more:\nwww.womenstagetheworld.org\n \n\n    \n
URL:https://archive.theatrewomen.org/event/women-stage-the-world-equality-parade/
LOCATION:New York\, United States
ATTACH;FMTTYPE=image/jpeg:https://archive.theatrewomen.org/wp-content/uploads/2015/05/women.jpg
END:VEVENT
END:VCALENDAR