BEGIN:VCALENDAR
VERSION:2.0
PRODID:-//League of Professional Theatre Women - ECPv4.2.7//NONSGML v1.0//EN
CALSCALE:GREGORIAN
METHOD:PUBLISH
X-WR-CALNAME:League of Professional Theatre Women
X-ORIGINAL-URL:https://archive.theatrewomen.org
X-WR-CALDESC:Events for League of Professional Theatre Women
BEGIN:VEVENT
DTSTART;TZID=America/New_York:20200623T070000
DTEND;TZID=America/New_York:20200623T203000
DTSTAMP:20260423T162244
CREATED:20200622T193834
LAST-MODIFIED:20200622T193834
UID:14659-1592895600-1592944200@archive.theatrewomen.org
SUMMARY:Women Stage the World - A Virtual Parade
DESCRIPTION:Tuesday\, June 23\n7PM\n\nJoin us for a Virtual Salon Celebration of Women in the one-hundredth anniversary of suffrage\, even though our parade cannot occur physically due to Covid-19 complication.\n\nThis year we will hold a Gathering of Fabulous Women\, including you!\n\nLPTW members will bring their interactive characters inspired by Theatre women from the past\, sharing their perspectives on today.  The event will be celebrating that\, through our imaginations\, we can create connections\, share ideas\, be inspired\, and have fun.\n\nIf you have participated in a past parade\, feel free to bring the character you brought before or come as you are.\nALL ARE WELCOME!!!\n\nTo RSVP\, email: \nChloe@TheatreWomen.org\n\nPlease respond no later than Tuesday\, June 23nd by 3:00 PM \nZoom info will be sent upon response.
URL:https://archive.theatrewomen.org/event/women-stage-the-world-a-virtual-parade/
ATTACH;FMTTYPE=image/png:https://archive.theatrewomen.org/wp-content/uploads/2020/06/Screen-Shot-2020-06-19-at-1.07.36-PM.png
END:VEVENT
END:VCALENDAR