BEGIN:VCALENDAR
VERSION:2.0
PRODID:-//League of Professional Theatre Women - ECPv4.2.7//NONSGML v1.0//EN
CALSCALE:GREGORIAN
METHOD:PUBLISH
X-WR-CALNAME:League of Professional Theatre Women
X-ORIGINAL-URL:https://archive.theatrewomen.org
X-WR-CALDESC:Events for League of Professional Theatre Women
BEGIN:VEVENT
DTSTART;TZID=America/Chicago:20191023T130000
DTEND;TZID=America/Chicago:20191026T140000
DTSTAMP:20260423T105007
CREATED:20190909T160537
LAST-MODIFIED:20190909T160537
UID:13824-1571835600-1572098400@archive.theatrewomen.org
SUMMARY:Top Secret Deer Day Care
DESCRIPTION:TOP SECRET DEER DAY CARE by Laura Shamas. Winner of the 2018-2019 National Playwriting Award for Theatre for Young Audience\, awarded by the University of Central Missouri\, Theatre and Dance\, Warrensburg\, MO. . Description: After moving with her parents from the city into a new house at the edge of the forest\, Jill discovers a naturalist boy named Stanley sitting just beyond her backyard fence line. Captivated and intrigued by the sudden emergence of a young fawn and its family\, Jill and Stanley join forces to protect the colonies of deer who have grazed the land for generations.\n\nAll is well until they receive news that a developer has purchased the forest and plans to build a larger “colony” of their own. Determined to preserve the beauty before them\, the two vow to fight for their newfound friends and a greener world
URL:https://archive.theatrewomen.org/event/top-secret-deer-day-care/
LOCATION:University of Central Missouri\, Warrensburg\, MO\, 64093\, United States
CATEGORIES:Member News & Events
ATTACH;FMTTYPE=image/jpeg:https://archive.theatrewomen.org/wp-content/uploads/2019/09/deer-2019.jpg
END:VEVENT
END:VCALENDAR