BEGIN:VCALENDAR
VERSION:2.0
PRODID:-//League of Professional Theatre Women - ECPv4.2.7//NONSGML v1.0//EN
CALSCALE:GREGORIAN
METHOD:PUBLISH
X-WR-CALNAME:League of Professional Theatre Women
X-ORIGINAL-URL:https://archive.theatrewomen.org
X-WR-CALDESC:Events for League of Professional Theatre Women
BEGIN:VEVENT
DTSTART;TZID=America/New_York:20190926T200000
DTEND;TZID=America/New_York:20191027T200000
DTSTAMP:20260423T133406
CREATED:20190923T164738
LAST-MODIFIED:20190923T164738
UID:13880-1569528000-1572206400@archive.theatrewomen.org
SUMMARY:The Green Room
DESCRIPTION:Not since A Chorus Line and The Phantom of the Opera has there been such a rousing musical that tells the backstage story of the actors and their career aspirations in theater. Harkening to Sondheims cult classic and oft-analyzed Merrily We Roll Along\, THE GREEN ROOM takes us to a college theatre green room where a group of friends dream of being NOT on Broadway but Off-Broadway! We hitch a ride onto the journey of a group of four best friends in college who dream of making it in New York. John\, Cliff\, Anna and Divonne live out complicated lives in their college theatre department. A dream in their hand\, a life to be led\, what will happen to these four when life finds them in The Green Room.\n\nThe Green Room will be starring --\n\nCorbin Williams as John Radford\nSami Staitman as Anna Kearns\nEli Douglas LaCroix as Cliff Kearns\nAriana Valdes as Divonne Bruder\nKate McManus as the Female Understudy\n\nDirected by Jessica Jennings\nMusic Director - David Fletcher\nStage Manager - S. Scott Miller\nAsst. Stage Manager - Jessica Newman\nTechnical Director - Ken Coughlin\nPublicist - Brian Geldin Public Relations\n\nBook by C. Stephen Foster and Rod Damer\nMusic and Lyrics by Chuck Pelletier
URL:https://archive.theatrewomen.org/event/the-green-room/
LOCATION:314 West 54th Stre\, New York\, NY\, 10019\, United States
CATEGORIES:Member News & Events
ATTACH;FMTTYPE=image/jpeg:https://archive.theatrewomen.org/wp-content/uploads/2019/09/green-room_36x24_300dpi_87.jpg
END:VEVENT
END:VCALENDAR