BEGIN:VCALENDAR
VERSION:2.0
PRODID:-//League of Professional Theatre Women - ECPv4.2.7//NONSGML v1.0//EN
CALSCALE:GREGORIAN
METHOD:PUBLISH
X-WR-CALNAME:League of Professional Theatre Women
X-ORIGINAL-URL:https://archive.theatrewomen.org
X-WR-CALDESC:Events for League of Professional Theatre Women
BEGIN:VEVENT
DTSTART;TZID=America/New_York:20201006T193000
DTEND;TZID=America/New_York:20201006T210000
DTSTAMP:20260424T080729
CREATED:20201005T195359
LAST-MODIFIED:20201029T184303
UID:14944-1602012600-1602018000@archive.theatrewomen.org
SUMMARY:Survival Is Insufficient
DESCRIPTION:Ego Actus will present SURVIVAL IS INSUFFICIENT\, a series of 10 play readings on Zoom\, Tuesday evenings at 7:30 in October\, November and December 2020. There will be no reading on November 3 due to the election.\nThe Plays\nOct 6 Saving Stan by Gary Morgenstein\, directed by Joan Kane\nOct 13 Nobody’s Flood by Glenn Alterman\, directed by Terry Hanson\nOct 20 Smile Like a Knife by Fengar Gael\, directed by Ralph Lewis\nOct 27 All Mothers Were Summoned by Bara Swain\, dir. by Kim T. Sharp\nNov 10 As in the Night by Fredrik Brattberg\, directed by Bruce A! Kraemer\nNov 17 Dog and Wolf by Catherine Filloux\, directed Joan Kane\nNov 24 Pretty Bird by Alina Rios\, directed by Joan Kane\nDec 1 Divisions by Robert Rossi\, directed by Cat Parker\nDec 8 Five Short Plays by Joan Lipkin\, directed by Alisa Matlovsky\nDec 15 A Shot Rang Out by Michael Hagins\, directed by Akia Squitieri
URL:https://archive.theatrewomen.org/event/survival-is-insufficient/2020-10-06/
LOCATION:New York\, NY\, United States
CATEGORIES:Member News & Events
ATTACH;FMTTYPE=image/jpeg:https://archive.theatrewomen.org/wp-content/uploads/2020/10/SiILogo.jpg
END:VEVENT
END:VCALENDAR