BEGIN:VCALENDAR
VERSION:2.0
PRODID:-//League of Professional Theatre Women - ECPv4.2.7//NONSGML v1.0//EN
CALSCALE:GREGORIAN
METHOD:PUBLISH
X-WR-CALNAME:League of Professional Theatre Women
X-ORIGINAL-URL:https://archive.theatrewomen.org
X-WR-CALDESC:Events for League of Professional Theatre Women
BEGIN:VEVENT
DTSTART;TZID=America/New_York:20190821T190000
DTEND;TZID=America/New_York:20190821T210000
DTSTAMP:20260423T215326
CREATED:20190628T182324
LAST-MODIFIED:20190628T183958
UID:13518-1566414000-1566421200@archive.theatrewomen.org
SUMMARY:Stop-Motion
DESCRIPTION:Please join us for an invited reading of "Stop-Motion" by 2018 Parity Commission Winner Liz Kerin\, directed by Ludovica Villar-Hauser\n\n“'Stop-Motion' occupies that in-between space—the space between tragedy and comedy\, family drama and magical escape ... Life is messy with its unexpected revelations\, resentments\, and relationships ... Liz’s play deals with these ups and downs with an open heart and a sense of humor and makes the reader root for each and every one of her characters.”\n- Mêlisa Annis\, 2017 Annual Parity Commission Winner\n\nWednesday\, August 21st at 7PM\nRSVP to emily@parityproductions.org to reserve your space for the reading/reception.\n\n"Stop-Motion" involves the following LPTW members: Judith Binus\, Paula Ewin\, Jennifer Kranz\, Ludovica Villar-Hauser.
URL:https://archive.theatrewomen.org/event/stop-motion/
LOCATION:New York\, NY\, United States
CATEGORIES:Member News & Events
ATTACH;FMTTYPE=image/jpeg:https://archive.theatrewomen.org/wp-content/uploads/2019/06/STOP-MOTION-READING-LPTW-ad-FINAL.jpg
ORGANIZER;CN="Parity%20Productions":MAILTO:ludovica@parityproductions.org
END:VEVENT
END:VCALENDAR