BEGIN:VCALENDAR
VERSION:2.0
PRODID:-//League of Professional Theatre Women - ECPv4.2.7//NONSGML v1.0//EN
CALSCALE:GREGORIAN
METHOD:PUBLISH
X-WR-CALNAME:League of Professional Theatre Women
X-ORIGINAL-URL:https://archive.theatrewomen.org
X-WR-CALDESC:Events for League of Professional Theatre Women
BEGIN:VEVENT
DTSTART;TZID=America/New_York:20190923T190000
DTEND;TZID=America/New_York:20190923T210000
DTSTAMP:20260423T122042
CREATED:20190906T151039
LAST-MODIFIED:20190930T195459
UID:13816-1569265200-1569272400@archive.theatrewomen.org
SUMMARY:“Starcrossed” By Kristen Penner and Lorelei Mackenzie
DESCRIPTION:Playing within the world of Romeo and Juliet\, "Starcrossed" sings the love song of Tybalt and Mercutio - Portrayed by Kristin Penner and Lorelei Mackenzie.\n\nProduced by 16th Note Productions and KM Jones
URL:https://archive.theatrewomen.org/event/starcrossed-by-kristen-penner-and-lorelei-mackenzie/
LOCATION:244 West 54th Street\, 12th Floor\, New York\, NY\, United States
CATEGORIES:Member News & Events
ORGANIZER;CN="Kim%20M.%20Jones":MAILTO:Kjdinga814@gmail.com
END:VEVENT
END:VCALENDAR