BEGIN:VCALENDAR
VERSION:2.0
PRODID:-//League of Professional Theatre Women - ECPv4.2.7//NONSGML v1.0//EN
CALSCALE:GREGORIAN
METHOD:PUBLISH
X-WR-CALNAME:League of Professional Theatre Women
X-ORIGINAL-URL:https://archive.theatrewomen.org
X-WR-CALDESC:Events for League of Professional Theatre Women
BEGIN:VEVENT
DTSTART;TZID=America/New_York:20201003T190000
DTEND;TZID=America/New_York:20201003T220000
DTSTAMP:20260424T061831
CREATED:20201005T195226
LAST-MODIFIED:20201005T195226
UID:14962-1601751600-1601762400@archive.theatrewomen.org
SUMMARY:SAY THEIR NAMES
DESCRIPTION:Inspired by the #SayHerName Movement\, this is an evening of readings of 00:08:46 plays and monologues about Black\, Indigenous\, Women of Color (BIWoC) who have died at the hands of law enforcement\, written by BIWoC Honor Roll! playwrights\, for BIWoC and their allies. Honor Roll! is an advocacy group of women+ playwrights over 40. The evening includes the work of LPTW members Yvette Heyliger and Cheryl Davis and is followed by a panel discussion.\n\nTanisha Anderson\nNeNe by Celeste Walker\n\nSandra Bland\nTechnical Difficulties by Lisa B. Thompson\n\nEleanor Bumpurs & Deborah Danner\nThe Way I Want to Be Remembered by Jake-ann Jones\n\nVanessa Marquez\nVanessa by Diana Burbano\n\nNizah Morris\nThe Most Loving Thing to Do by Yvette Heyliger\n\nAiyana Stanley-Jones & Breonna Taylor\nNow I Lay Me Down to Sleep by Cheryl Davis\n\nPamela Turner\nJust Wanna Go Home by Michael Angel Johnson\n\nMisty Upham\nNever Be Afraid by Jaisey Bates\n\nFor more information and to RSVP\, please email saytheirnameshonorroll@gmail.com.
URL:https://archive.theatrewomen.org/event/say-their-names/
CATEGORIES:Member News & Events
ATTACH;FMTTYPE=image/jpeg:https://archive.theatrewomen.org/wp-content/uploads/2020/10/art-blur-bright-candlelight-289756.jpg
ORGANIZER;CN="Yvette%20Heyliger":MAILTO:yvetteheyliger@gmail.com
END:VEVENT
END:VCALENDAR