BEGIN:VCALENDAR
VERSION:2.0
PRODID:-//League of Professional Theatre Women - ECPv4.2.7//NONSGML v1.0//EN
CALSCALE:GREGORIAN
METHOD:PUBLISH
X-WR-CALNAME:League of Professional Theatre Women
X-ORIGINAL-URL:https://archive.theatrewomen.org
X-WR-CALDESC:Events for League of Professional Theatre Women
BEGIN:VEVENT
DTSTART;TZID=America/New_York:20190616T150000
DTEND;TZID=America/New_York:20190616T230000
DTSTAMP:20260423T122158
CREATED:20190603T143323
LAST-MODIFIED:20190603T143323
UID:13428-1560697200-1560726000@archive.theatrewomen.org
SUMMARY:SARAVÁ! SÃO JOÃO @ HOUSE OF YES
DESCRIPTION:Description\nIf you know what ‘Festa de São João’ is you’re already excited as we are! Picture this: an authentic and unique Brazilian celebration\, almost as big as carnival\, created from a mix of European\, African and indigenous harvest and spiritual celebrations resulting in unique music\, food\, games\, and dance.\n\nGroup .BR\, NY’s Brazilian Theater Company\,\nis happy to announce that\nthere will be Festa de São João!\nYes\, there will be Festa de São João\,\nbut there will be no tradução! Translation não.\nBecause Festa de São João is Festa de São João\,\nso we won’t Saint John Party you.\nSão João is when Brazilian people feel homesick. Again!\nBecause it is a true Brazilian celebration\nalmost as big as carnival\nthat takes the country every June.\nPicture a mix of Portuguese\, African and Indigenous festivities\ntranslated into unique music\, play and dance\nwith a truly Brazilian soul.\nCome have a bite!\n\nThere will be live forró with FORRÓ IN THE DARK\nand TRIO LITTLE BIRDS with the special guest LIZ ROSA\,\nthere will be DEØGAZ (Gaspar Muniz and Deo Jorge)\, DJ GREG CAZ and DJAPA\nspinning the best of Brazilian beats\,\nthere will be a free forró dance class by NY Forró Fest\nwith Sabrina Evangelista & Daniel Silva\nthere will be typical food\, drinks\, games\,\nand there will be quadrilha! É verdade!\n\nKids accompanied by parents or legal guardians are welcome from 3-6pm. Free entry for kids under 12 years old! 21+ after 6pm\n\nGroup .BR:\nwww.group.br.com\nfacebook.com/group.br\nhttps://www.instagram.com/groupdotbr/\n\nForró in the Dark:\nhttps://www.forrointhedark.com/\nhttps://www.facebook.com/forrointhedark/\n\nTrio Little Birds:\nhttps://www.facebook.com/triolittlebirdsnomundo/\n\nLiz Rosa:\nhttps://www.lizrosamusic.com/\n@lizrosaofficial\n\nDeøgaz:\nGaspar Muniz | @gaspar_muniz\nDeo Jorge | @deo.jorge\n\nDJ Greg Caz\nhttps://www.mixcloud.com/culturesofsoul/greg-caz-presents-the-brazilian-boogie-connection/\n\nDJapa:\nhttps://www.mixcloud.com/djapanyc/forró-classicos-2/\nhttps://www.mixcloud.com/djapanyc/forró-do-sertão/\n\n::::::: CONSENT POLICY :::::::\nBehave with beauty\, connect with intention. We are obsessed with Consent. Always ASK before touching anyone at our events. If someone is violating your boundaries or harassing you\, please speak to staff or security. We have a zero tolerance policy for harassment. If you feel something\, say something\, and we will help. Questions about consent at House of Yes? Let us know: consent@houseofyes.org.\n\n::::::: COMMUNITY & ACCESSIBILITY :::::::\nThis is a space for everyone to feel welcome. Racism\, sexism\, ableism\, ageism\, homophobia\, transphobia\, or any other form of discrimination will not be tolerated. All restrooms are gender inclusive. Everyone is free to use the restroom that best fits their gender identity or expression. All entrances and spaces within the venue are single-level. Strobe lights are used during performances and parties.
URL:https://archive.theatrewomen.org/event/sarava-sao-joao-house-of-yes/
LOCATION:2 Wyckoff Avenue  \, Brooklyn\, NY\, 11237\, United States
CATEGORIES:Member News & Events
ATTACH;FMTTYPE=image/jpeg:https://archive.theatrewomen.org/wp-content/uploads/2019/06/Saravá-São-João_yellow-dot.jpg
ORGANIZER;CN="Group%20.BR%20%28NY%27s%20only%20Brazilian%20Theatre%20Company%29":MAILTO:info@group.br.com
END:VEVENT
END:VCALENDAR