BEGIN:VCALENDAR
VERSION:2.0
PRODID:-//League of Professional Theatre Women - ECPv4.2.7//NONSGML v1.0//EN
CALSCALE:GREGORIAN
METHOD:PUBLISH
X-WR-CALNAME:League of Professional Theatre Women
X-ORIGINAL-URL:https://archive.theatrewomen.org
X-WR-CALDESC:Events for League of Professional Theatre Women
BEGIN:VEVENT
DTSTART;TZID=America/New_York:20150504T180000
DTEND;TZID=America/New_York:20150504T200000
DTSTAMP:20260425T004240
CREATED:20150427T170735
LAST-MODIFIED:20150507T190748
UID:3939-1430762400-1430769600@archive.theatrewomen.org
SUMMARY:Quarterly Networking Mondays - Roundtable Discussion: The Independent Producer
DESCRIPTION:Monday night May 4\, 2015 at TheaterLab\, the League of Professional Theatre Women's Networking Mondays\, Roundtable Discussion:  The Independent Producer\, had LPTW Members and Industry Union members abuzz with the possibilities.  Each of the six panelists and moderator which included: Broadway and Off-Broadway producers\, artistic directors\, and playwright/producers\, shared their insight into the world and many possibilities of being an independent producer.\n \n\n\n\n\n\nL-R Networking Committee Co-Chair & Board Member Richarda Abrams\, Producers Panel:  Joan Kane\, Cecilia Copeland\, Board Member Margot Astrachan\, Sandra A. Daley-Sharif\, Moderator: Former LPTW President Sheilah Rae\, LPTW VP Programming Susan Bernfield\, Kimberly Loren Eaton\, Networking Committee Co-Chair & Board Member Romy Nordlinger.\n \n\n\n L-R Front row: Networking Committee Co-Chair & Board Member Richarda Abrams\, LPTW Networking Committee members:  Board Secretary Dorothy Leeds\, Board Member Ivy Austin\, June Rachelson-Ospa\, Networking Committee Co-Chair & Board Member Romy Nordlinger\, Katherine Elliot\, Salon Chair Frances McGarry. Top Row:  Producers Panel:  Joan Kane\, Cecilia Copeland\, Board Member Margot Astrachan\, Sandra A. Daley-Sharif\, Moderator: Former LPTW President Sheilah Rae\, LPTW VP Programming Susan Bernfield\, Kimberly Loren Eaton.\n \nREAD OUR ARTICLE IN BROADWAY WORLD: \nhttp://www.broadwayworld.com/article/League-of-Professional-Theatre-Women-to-Host-Networking-Event-54-20150501\nPanelists:\n\nMargot Astrachan  \n\nCommercial Theatrical Producer\n\nTony Awards – A Gentleman's Guide to Love and Murder\, The Realistic Joneses\, Nice Work If You Can Get It\, On a Clear Day You Can See Forever\n\n \n\nSusan Bernfield \n\nFounder and producing artistic director of New Georges\n\nObie Award\n\n2014 Lilly Award for producing\n\nLPTW VP of Programming\n\n \n\nCecilia Copeland\n\nPlaywright Producing Artistic Director\n\nNY Madness\n\n"Light of Night" - Kilroy's Nominee\, Best of Plays & Playwrights 2015\n\n"BIOLIFE" - finalists Mabou Mines Residency; semifinalist\, Emerging Playwrights Prize at the Marin Theatre & O'Neill Playwrights Conference\n\n"COURTING" - semifinalist O'Neill Playwrights Conference\n\n \n\nSandra A. Daley-Sharif\n\nProducing Artistic Director\n\nJosephine Abady Award\n\nFounder/member of HARLEM9 - 2014 Obie Award winner for their annual sold-out production 48 Hours in Harlem\n\n2013 NYFA Fellowship Finalist\n\n \n\nKimberly Loren Eaton\n\nBroadway Producer (The Velocity of Autumn\, and Fun Home)\n\nDevelopmental Director\, Principal of Theatrum Mundi Productions\n\nArtistic and Managing Director of the Off-Broadway Marjorie S. Deane Little Theater\n\n \n\nJoan Kane\n\nDirector\n\nFounding Artistic Director of Ego Actus\n\nNominated for Outstanding Direction Awards in the MITF three times and Planet Connections twice inducted into the Indie Theater Hall of Fame\n\n \n\nModerator:\n\n \n\nSheilah Rae\n\nProducer\n\nPresident of NY Theatre Barn\n\n5 time Heideman Award Finalist for Lovelines\, What Goes Around\, The Waiter\, On the Page\, Single and Active\n\nRecipient of Billboard\, Variety\, NSAI\, NYWA Galaxy Awards\n\nFormer LPTW President\n\n \n\n \n\nRicharda Abrams\, Romy Nordlinger\, Co-Chairs\, Networking Committee
URL:https://archive.theatrewomen.org/event/quarterly-networking-mondays-roundtable-discussion-the-independent-producer/
LOCATION:357 West 36th Street\, 3rd Floor\, New York\, NY\, 10018\, United States
GEO:40.7545052;-73.9946137
X-APPLE-STRUCTURED-LOCATION;VALUE=URI;X-ADDRESS=357 West 36th Street 3rd Floor New York NY 10018 United States;X-APPLE-RADIUS=500;X-TITLE=357 West 36th Street\, 3rd Floor:geo:-73.9946137,40.7545052
CATEGORIES:Networking
ATTACH;FMTTYPE=image/jpeg:https://archive.theatrewomen.org/wp-content/uploads/2015/04/dir.jpg
END:VEVENT
END:VCALENDAR