BEGIN:VCALENDAR
VERSION:2.0
PRODID:-//League of Professional Theatre Women - ECPv4.2.7//NONSGML v1.0//EN
CALSCALE:GREGORIAN
METHOD:PUBLISH
X-WR-CALNAME:League of Professional Theatre Women
X-ORIGINAL-URL:https://archive.theatrewomen.org
X-WR-CALDESC:Events for League of Professional Theatre Women
BEGIN:VEVENT
DTSTART;VALUE=DATE:20201121
DTEND;VALUE=DATE:20201121
DTSTAMP:20260424T062207
CREATED:20200911
LAST-MODIFIED:20200911
UID:14868-1605916800-1606003199@archive.theatrewomen.org
SUMMARY:Poetry Open Mic
DESCRIPTION:
URL:https://archive.theatrewomen.org/event/poetry-open-mic-2/
END:VEVENT
END:VCALENDAR