BEGIN:VCALENDAR
VERSION:2.0
PRODID:-//League of Professional Theatre Women - ECPv4.2.7//NONSGML v1.0//EN
CALSCALE:GREGORIAN
METHOD:PUBLISH
X-WR-CALNAME:League of Professional Theatre Women
X-ORIGINAL-URL:https://archive.theatrewomen.org
X-WR-CALDESC:Events for League of Professional Theatre Women
BEGIN:VEVENT
DTSTART;TZID=America/New_York:20200210T180000
DTEND;TZID=America/New_York:20200210T200000
DTSTAMP:20260423T173329
CREATED:20200121T194238
LAST-MODIFIED:20200121T212211
UID:14251-1581357600-1581364800@archive.theatrewomen.org
SUMMARY:ORAL HISTORY: Irene Gandy in conversation with Voza Rivers
DESCRIPTION:Monday\, February 10\, 2020\n\n6PM\n\nThe Bruno Walter Auditorium\nNew York Public Library for the Performing Arts at Lincoln Center\nCorner of 65th Street & Amsterdam Avenue\n\nIrene will be interviewed by Voza Rivers\, an acclaimed producer\, who currently serves as Executive Producer of the New Heritage Theatre Group. \n\nFree admission. First come\, first seated.\n\nInviting YOU plus one guest. \n\nWant to bring more than one guest? Encourage your friends to become a Friend of the League and they will be able to RSVP to one Oral History event per season.\n\n \n\nHave a Question for Irene?\n\n \n\nSubmit it by February 3\, 2020 to OH@theatrewomen.org and it may be answered at the interview!\n\n \n\nTo secure your seats\, you must arrive by 5:30PM.\n\nUnclaimed reservations will be released to the general public at 5:30PM.\n\nThis program is produced by Ludovica Villar-Hauser.\n\n \n\nThis program is made possible with funds from the NYS Council on the Arts\, a state agency\, with the support of Governor Andrew M. Cuomo. The Oral History Project also enjoys continued support from the Edith Meiser Foundation.
URL:https://archive.theatrewomen.org/event/oral-history-irene-gandy-in-conversation-with-voza-rivers/
LOCATION:Corner of 65th Street & Amsterdam Avenue\, 111 Amsterdam Ave\, NY\,  10023\, United States
CATEGORIES:Oral History
ATTACH;FMTTYPE=image/png:https://archive.theatrewomen.org/wp-content/uploads/2020/01/Irene-and-Voza.png
END:VEVENT
END:VCALENDAR