BEGIN:VCALENDAR
VERSION:2.0
PRODID:-//League of Professional Theatre Women - ECPv4.2.7//NONSGML v1.0//EN
CALSCALE:GREGORIAN
METHOD:PUBLISH
X-WR-CALNAME:League of Professional Theatre Women
X-ORIGINAL-URL:https://archive.theatrewomen.org
X-WR-CALDESC:Events for League of Professional Theatre Women
BEGIN:VEVENT
DTSTART;TZID=America/New_York:20191114T180000
DTEND;TZID=America/New_York:20191114T190000
DTSTAMP:20260423T134956
CREATED:20190819T161733
LAST-MODIFIED:20191028T221601
UID:13692-1573754400-1573758000@archive.theatrewomen.org
SUMMARY:Oral History: An Interview with ANGELA LANSBURY
DESCRIPTION:Two-Week Priority Booking Period for LPTW Members\n& Friends Only: Monday\, September 30th - Monday\, October 14th*\n\n*Members will be able to RSVP beginning September 30th. We will be sharing instructions on how to RSVP next month via email.\n\nAngela Lansbury has enjoyed a stage\, screen and television career spanning 75 years. She has appeared in nearly 70 films\, and starred as Jessica Fletcher on Murder\, She Wrote\, the longest-running detective drama series in TV history. She is the winner of 5 Tony Awards\, an Olivier\, and 6 Golden Globes\, and has been nominated for 18 Emmys and 3 Oscars. She is the recipient of an Oscar for Lifetime Achievement in Motion Pictures\, a Silver Mask for Lifetime Achievement from the British Academy of Film and Television Arts\, the National Medal of the Arts\, and the Kennedy Center Honors. In 2014\, she was named a Dame of the British Empire by Queen Elizabeth II.\n\nThis event is first-come\, first-served. LPTW Oral History is always free and open to the public.\n\nThe LPTW Oral History Project is produced by Ludovica Villar-Hauser.\n\nThis program is made possible\, in part\, with public funds from the NYS Council on the Arts\, a state agency\, with the support of Governor Andrew M. Cuomo. The Oral History Project also enjoys continued support from the Edith Meiser Foundation.\n\n
URL:https://archive.theatrewomen.org/event/oral-history-an-interview-with-angela-lansbury/
LOCATION:65th Street and Amsterdam Avenue\, New York\, 10023\, United States
GEO:40.7741641;-73.9848426
X-APPLE-STRUCTURED-LOCATION;VALUE=URI;X-ADDRESS=65th Street and Amsterdam Avenue New York 10023 United States;X-APPLE-RADIUS=500;X-TITLE=65th Street and Amsterdam Avenue:geo:-73.9848426,40.7741641
ATTACH;FMTTYPE=image/png:https://archive.theatrewomen.org/wp-content/uploads/2019/08/Screen-Shot-2019-10-28-at-6.15.25-PM.png
END:VEVENT
END:VCALENDAR