BEGIN:VCALENDAR
VERSION:2.0
PRODID:-//League of Professional Theatre Women - ECPv4.2.7//NONSGML v1.0//EN
CALSCALE:GREGORIAN
METHOD:PUBLISH
X-WR-CALNAME:League of Professional Theatre Women
X-ORIGINAL-URL:https://archive.theatrewomen.org
X-WR-CALDESC:Events for League of Professional Theatre Women
BEGIN:VEVENT
DTSTART;TZID=America/New_York:20150415T183000
DTEND;TZID=America/New_York:20150415T200000
DTSTAMP:20260425T021651
CREATED:20150325T161627
LAST-MODIFIED:20150330T195011
UID:3859-1429122600-1429128000@archive.theatrewomen.org
SUMMARY:On Her Shoulders - Wednesday\, April 15 at 6:30pm
DESCRIPTION:Wednesday\, April 15\nDoors open at 6:30pm\nThe New School\nWollman Hall\n65 West 11th Street\n(between 5th and 6th Avenues)\nOn Her Shoulders is pleased to present a FREE staged reading of SPUNK (1926) by Zora Neale Hurston\, directed by Aneesha Kudtarkar. Dramaturg Sadah "Espii" Proctor will kick off the evening at 6:45 by introducing The Play in Context\, which situates the script in its historical time and place. The reading will be followed by a Q&A.\nSPUNK is an adaptation of Hurston's short story by the same name. The play takes place in a rural\, all-black Southern town\, much like Hurston's home of Eatonville\, Florida\, the first incorporated African American township in the United States. The action centers on Spunk Banks\, who comes to town and tames the big blade at the local sawmill while stealing another man's wife\, Lena. Like many of Hurston’s tales\, it deals with the nature of marriage and with a struggle between a strong man and a weak one.\nTo RSVP\, email OnHerShouldersReservations@gmail.com.
URL:https://archive.theatrewomen.org/event/on-her-shoulders-wednesday-april-15-at-630pm/
LOCATION:65 West 11th Street\, New York\, NY\, United States
GEO:40.7352563;-73.9975083
X-APPLE-STRUCTURED-LOCATION;VALUE=URI;X-ADDRESS=65 West 11th Street New York NY United States;X-APPLE-RADIUS=500;X-TITLE=65 West 11th Street:geo:-73.9975083,40.7352563
ATTACH;FMTTYPE=image/jpeg:https://archive.theatrewomen.org/wp-content/uploads/2015/03/judy3.jpg
END:VEVENT
END:VCALENDAR