BEGIN:VCALENDAR
VERSION:2.0
PRODID:-//League of Professional Theatre Women - ECPv4.2.7//NONSGML v1.0//EN
CALSCALE:GREGORIAN
METHOD:PUBLISH
X-WR-CALNAME:League of Professional Theatre Women
X-ORIGINAL-URL:https://archive.theatrewomen.org
X-WR-CALDESC:Events for League of Professional Theatre Women
BEGIN:VEVENT
DTSTART;TZID=America/New_York:20210227T140000
DTEND;TZID=America/New_York:20210227T160000
DTSTAMP:20260424T063743
CREATED:20210107T185448
LAST-MODIFIED:20210107T185448
UID:15160-1614434400-1614441600@archive.theatrewomen.org
SUMMARY:On Her Shoulders - GABRIEL (1839) by George Sand (France)
DESCRIPTION:ON HER SHOULDERS Virtual Presentations\navailable on NPTC YouTube Channel (NewPerspectivesTC)\n\nSaturday\, February 27\, 2:00pm EST (U.S.)\nGABRIEL (1839) by George Sand (France)\nnew translation by Lynn Marie Macy\ndirected by Lynn Marie Macy\, dramaturgy by Melody Brooks\nThe handsome\, heroic heir to a vast estate\, raised as a man to follow a man’s pursuits and to despise women\, is devastated to learn at the age of seventeen that he is in fact a she. Gabriel courageously refuses to give up her male privileges\, and her tragic struggle to work and fight and love in all the ways she knows how offers a window into the obstacles faced by George Sand\, the prolific intellectual woman whom the popular press portrayed as a promiscuous\, cigar-smoking oddity in trousers. “Strange that the most virile talent of our time should be a woman’s!” exclaimed a reviewer in 1838.\nON HER SHOULDERS was founded in May 2013 to present rehearsed\, staged readings of plays by women from across the spectrum of time\, with contemporary dramaturgs contextualizing them for modern audiences. To date\, the program has presented 58 plays by 45 writers\, from the years ca 955 to 1970. The Play in Context\, the dramaturgical and scholarly presentation component for all of the readings\, is sponsored in part by the League of Professional Theatre Women.
URL:https://archive.theatrewomen.org/event/on-her-shoulders-gabriel-1839-by-george-sand-france/
END:VEVENT
END:VCALENDAR