BEGIN:VCALENDAR
VERSION:2.0
PRODID:-//League of Professional Theatre Women - ECPv4.2.7//NONSGML v1.0//EN
CALSCALE:GREGORIAN
METHOD:PUBLISH
X-WR-CALNAME:League of Professional Theatre Women
X-ORIGINAL-URL:https://archive.theatrewomen.org
X-WR-CALDESC:Events for League of Professional Theatre Women
BEGIN:VEVENT
DTSTART;TZID=America/New_York:20191108T184500
DTEND;TZID=America/New_York:20191108T210000
DTSTAMP:20260423T122035
CREATED:20191028T211647
LAST-MODIFIED:20191028T211647
UID:14024-1573238700-1573246800@archive.theatrewomen.org
SUMMARY:ON HER SHOULDERS: Fatal Friendship
DESCRIPTION:ON HER SHOULDERS launches its 7th Season of rediscovering women playwrights from the past on Friday\, November 8th with FATAL FRIENDSHIP (1698) by Catherine Trotter.\n\nDoors open at 6:45pm for a 7:00pm start with The Play in Context Introduction\, which situates the script in its historical time and place\, followed by the reading and a post-performance Q&A with refreshments. Admission is by Donation ($10 suggested).\nFATAL FRIENDSHIP was a HIT 320 years ago!\nWhen the younger son of a noble family is confronted with an impossible choice\, his seemingly selfless decision leads to tragic consequences. In a departure from more well-known Restoration dramas\, female sexual desire is unambiguously expressed and plays a critical role in the ensuing tragedy. Directed by LPTW Member Melody Brooks with dramaturgy by Lynn Marie Macy.\n\nThe Play in Context\, the dramaturgical and scholarly presentation component to the program\, is sponsored in part by the League of Professional Theatre Women.\n\nRSVP: OnHerShouldersReservations@gmail.com
URL:https://archive.theatrewomen.org/event/on-her-shoulders-fatal-friendship/
LOCATION:456 W 37th Street\, New York\, NY\, United States
GEO:40.7561605;-73.9974851
X-APPLE-STRUCTURED-LOCATION;VALUE=URI;X-ADDRESS=456 W 37th Street New York NY United States;X-APPLE-RADIUS=500;X-TITLE=456 W 37th Street:geo:-73.9974851,40.7561605
ATTACH;FMTTYPE=image/jpeg:https://archive.theatrewomen.org/wp-content/uploads/2019/10/trotter-2.jpg
END:VEVENT
END:VCALENDAR