BEGIN:VCALENDAR
VERSION:2.0
PRODID:-//League of Professional Theatre Women - ECPv4.2.7//NONSGML v1.0//EN
CALSCALE:GREGORIAN
METHOD:PUBLISH
X-WR-CALNAME:League of Professional Theatre Women
X-ORIGINAL-URL:https://archive.theatrewomen.org
X-WR-CALDESC:Events for League of Professional Theatre Women
BEGIN:VEVENT
DTSTART;TZID=America/New_York:20191019T130000
DTEND;TZID=America/New_York:20191103T130000
DTSTAMP:20260423T174427
CREATED:20191007T221530
LAST-MODIFIED:20191009T221527
UID:13990-1571490000-1572786000@archive.theatrewomen.org
SUMMARY:OMINOUS MEN – SUBMITTED BY LORCA PERESS
DESCRIPTION:“Ominous Men” is MultiStages 2017 New Works Contest winning play by Desi Moreno-Penson\, directed by MultiStages Artistic Director\, Lorca Peress. “Ominous Men” is a gothic horror tale about race\, poverty\, drugs\, misogyny AND violence in America. It was the wrong night and the wrong place for these OMINOUS MEN to be playing “Bones” when the 1977 NYC Blackout hits the Bronx! Three men are confronted by their ferocious pasts in the derelict Bronx Concourse Plaza Hotel basement on July 13\, 1977: Butch\, the Nuyorican caretaker who’s been digging a pit looking for buried treasure\, his nervous cousin Goyo\, and Butch’s drug sponsor and ex-Black Panther Yancy. This night of drinking\, camaraderie and dominoes turns violent when the Blackout hits\, a stranger climbs out of the pit\, and the ghost of a Holocaust survivor and murdered woman appear.\n\nPerformances run Tuesdays - Saturdays at 7:30\, plus four 1pm matinees on October 19\, October 20\, October 27\, and November 3rd. The performances on October 20th and 27th will be followed by talkbacks.\n\nThis play about ominous men is written\, directed\, designed\, and produced by Women. “Ominous Men” made the qualifying list for Parity Productions.\n\n“Ominous Men” is made possible in part with public funds from Creative Engagement\, supported by the New York City Department of Cultural Affairs in partnership with the City Council and administered by LMCC. A co-presentation with the Theater at the 14th Street Y.
URL:https://archive.theatrewomen.org/event/ominous-men-submitted-by-lorca-peress-2/
LOCATION:344 East 14th Street at 1st Avenue\, New York\, NY\, 10003\, United States
GEO:40.7312884;-73.9832952
X-APPLE-STRUCTURED-LOCATION;VALUE=URI;X-ADDRESS=344 East 14th Street at 1st Avenue New York NY 10003 United States;X-APPLE-RADIUS=500;X-TITLE=344 East 14th Street at 1st Avenue:geo:-73.9832952,40.7312884
CATEGORIES:Member News & Events
ATTACH;FMTTYPE=image/jpeg:https://archive.theatrewomen.org/wp-content/uploads/2019/10/Capture.jpg
ORGANIZER;CN="Lorca%20Peress%2C%20MultiStages%20Artistic%20Director":MAILTO:lorca.peress@gmail.com
END:VEVENT
END:VCALENDAR