BEGIN:VCALENDAR
VERSION:2.0
PRODID:-//League of Professional Theatre Women - ECPv4.2.7//NONSGML v1.0//EN
CALSCALE:GREGORIAN
METHOD:PUBLISH
X-WR-CALNAME:League of Professional Theatre Women
X-ORIGINAL-URL:https://archive.theatrewomen.org
X-WR-CALDESC:Events for League of Professional Theatre Women
BEGIN:VEVENT
DTSTART;TZID=America/New_York:20150414T100000
DTEND;TZID=America/New_York:20150414T110000
DTSTAMP:20260425T021431
CREATED:20150402T165054
LAST-MODIFIED:20150402T165054
UID:3890-1429005600-1429009200@archive.theatrewomen.org
SUMMARY:NYC Equal Pay Rally
DESCRIPTION:In celebration of Equal Pay Day\, the LPTW will be joining PowerHerNYC for a rally on the steps of City Hall!\n\nFrom PowerHerNYC:\n\nIt’s that time of year! National Equal Pay Day is April 14th.\n\nThis year should be momentous for New York because we are so close to passing the NY Equal Pay Bill (A6075/S). It will help insure that women receive equal pay for equal work. Now the average NY women losses 8\,250 because of the pay gap...every year! What would you do with that money?\n\nA separate bill –A6075/S1 – was introduced by Assembly member Michele Titus in March. It is one of a series of bills the Assembly will take up this session that addresses the needs of New York women. Since the Senate passed a “same as” bill earlier this year\, if approved in the Assembly\, it will go to Governor Cuomo to be signed into law.\n\nAfter fighting for these provisions and WEA for two years\, and for other equal pay bills for more than a decade\, we are closer than ever to success. But we are not there yet! We've listed ways you can help get us over the finish line!
URL:https://archive.theatrewomen.org/event/nyc-equal-pay-rally/
LOCATION:Broadway\, New York\, NY 10007 USA\, New York\, 10007\, United States
GEO:40.7129325;-74.0077937
X-APPLE-STRUCTURED-LOCATION;VALUE=URI;X-ADDRESS=Broadway New York NY 10007 USA New York 10007 United States;X-APPLE-RADIUS=500;X-TITLE=Broadway\, New York\, NY 10007 USA:geo:-74.0077937,40.7129325
ATTACH;FMTTYPE=image/jpeg:https://archive.theatrewomen.org/wp-content/uploads/2015/04/city.jpg
END:VEVENT
END:VCALENDAR