BEGIN:VCALENDAR
VERSION:2.0
PRODID:-//League of Professional Theatre Women - ECPv4.2.7//NONSGML v1.0//EN
CALSCALE:GREGORIAN
METHOD:PUBLISH
X-WR-CALNAME:League of Professional Theatre Women
X-ORIGINAL-URL:https://archive.theatrewomen.org
X-WR-CALDESC:Events for League of Professional Theatre Women
BEGIN:VEVENT
DTSTART;TZID=America/New_York:20200311T193000
DTEND;TZID=America/New_York:20200314T193000
DTSTAMP:20260423T162218
CREATED:20200227T153421
LAST-MODIFIED:20200227T153438
UID:14403-1583955000-1584214200@archive.theatrewomen.org
SUMMARY:NIGHT SHADOWS
DESCRIPTION:NIGHT SHADOWS—Or\, One Hundred Million Voices Shouting\n\nWritten by Lynda Crawford\n\nDirected by Scott Klavan\n\nThis play focuses on the life of Russian poet Anna Akhmatova\, just prior to\, during\, and after the Russian revolution. In the play she is keeping her promise to tell of “the true twentieth century”—of lives disrupted\, her poetry banned\, and so many loved ones lost under Stalin’s brutal regime. We find Akhmatova's story very inspiring and relevant to our world today.\n\nNIGHT SHADOWS will be part of the On Women Festival in March at Irondale Center in Brooklyn.
URL:https://archive.theatrewomen.org/event/night-shadows-3/2020-03-11/
LOCATION:85 South Oxford Street\, Brooklyn\, NY\, 11217\, United States
CATEGORIES:Member News & Events
ATTACH;FMTTYPE=image/jpeg:https://archive.theatrewomen.org/wp-content/uploads/2020/02/night-shadows-l-light_red-final-9.13.19-PM.jpeg
END:VEVENT
END:VCALENDAR