BEGIN:VCALENDAR
VERSION:2.0
PRODID:-//League of Professional Theatre Women - ECPv4.2.7//NONSGML v1.0//EN
CALSCALE:GREGORIAN
METHOD:PUBLISH
X-WR-CALNAME:League of Professional Theatre Women
X-ORIGINAL-URL:https://archive.theatrewomen.org
X-WR-CALDESC:Events for League of Professional Theatre Women
BEGIN:VEVENT
DTSTART;TZID=America/New_York:20190926T193000
DTEND;TZID=America/New_York:20191017T170000
DTSTAMP:20260423T234045
CREATED:20190927T164143
LAST-MODIFIED:20190927T164143
UID:13930-1569526200-1571331600@archive.theatrewomen.org
SUMMARY:Mrs. Stern Wanders the Prussian State Library
DESCRIPTION:Johanna Stern will become one of the most influential thinkers of the 20th century. But at the moment\, no one has heard of her\, or even of the name she writes under\, Hannah Arendt. She is merely a graduate student with one book under her belt. Karl Frick is a young officer\, recently promoted from the criminal police force to the political police force\, a new division in 1933 Berlin. His first interrogation in this new job promises to be his most challenging one. A fantastical drama about one of our deepest thinkers\, inspired by real events.\n\nLuna Stage presents\nthe World Premiere of\nMrs. Stern Wanders the Prussian State Library\nby Jenny Lyn Bader\ndirected by Ari Laura Kreith\n\nOctober 17-Nov 10\, 2019\nThursdays at 7:30\nFridays & Saturdays at 8\nSundays at 3\n\nLuna Stage\nMainstage\n555 Valley Road\nW. Orange\, NJ\n\nTickets: $20-$40\nUse code LUNALPTW for discount tickets\n\nFor more info visit https://www.lunastage.org/shows/mrs-stern\nTickets at OvationTix or call: (866) 811-4111
URL:https://archive.theatrewomen.org/event/mrs-stern-wanders-the-prussian-state-library/
LOCATION:555 Valley Road\, West Orange\, NJ\, United States
CATEGORIES:Member News & Events
ATTACH;FMTTYPE=image/png:https://archive.theatrewomen.org/wp-content/uploads/2019/09/lunacardfront.png
ORGANIZER;CN="Luna%20Stage":MAILTO:info@lunastage.org
END:VEVENT
END:VCALENDAR