BEGIN:VCALENDAR
VERSION:2.0
PRODID:-//League of Professional Theatre Women - ECPv4.2.7//NONSGML v1.0//EN
CALSCALE:GREGORIAN
METHOD:PUBLISH
X-WR-CALNAME:League of Professional Theatre Women
X-ORIGINAL-URL:https://archive.theatrewomen.org
X-WR-CALDESC:Events for League of Professional Theatre Women
BEGIN:VEVENT
DTSTART;TZID=America/New_York:20200229T193000
DTEND;TZID=America/New_York:20200322T150000
DTSTAMP:20260423T180920
CREATED:20191225T214624
LAST-MODIFIED:20191225T214624
UID:14185-1583004600-1584889200@archive.theatrewomen.org
SUMMARY:MIRRORS by Azure D. Osborne-Lee
DESCRIPTION:When 17-year-old Alma Jean finds her mother dead\, she must pack up her life and move in with her mother’s ex-lover\, a woman she doesn’t know. Her new guardian\, Bird Wilson\, is the town pariah and unused to sharing her home. Will mourning the death of a shared loved one bring Alma Jean and Bird together or push them further apart? Set in the sleepy Mississippi town of Etheridge in the summer of 1960\, MIRRORS depicts the lives of three African-American women bound by love and loss and family\, and the secrets of their shared past.\n\nDirected by LPTW member Ludovica Villar-Hauser
URL:https://archive.theatrewomen.org/event/mirrors-by-azure-d-osborne-lee/
LOCATION:83 East 4th Street\, New York\, NY\, United States
CATEGORIES:Member News & Events
ATTACH;FMTTYPE=image/png:https://archive.theatrewomen.org/wp-content/uploads/2019/12/110719-MIRRORS-KEY-ART-INSTAGRAM-1080x1080.png
ORGANIZER;CN="Parity%20Productions":MAILTO:ludovica@parityproductions.org
END:VEVENT
END:VCALENDAR