BEGIN:VCALENDAR
VERSION:2.0
PRODID:-//League of Professional Theatre Women - ECPv4.2.7//NONSGML v1.0//EN
CALSCALE:GREGORIAN
METHOD:PUBLISH
X-WR-CALNAME:League of Professional Theatre Women
X-ORIGINAL-URL:https://archive.theatrewomen.org
X-WR-CALDESC:Events for League of Professional Theatre Women
BEGIN:VEVENT
DTSTART;TZID=America/New_York:20201012T180000
DTEND;TZID=America/New_York:20201012T210000
DTSTAMP:20260423T231249
CREATED:20200911T134201
LAST-MODIFIED:20200911T134201
UID:14851-1602525600-1602536400@archive.theatrewomen.org
SUMMARY:Member's Night Out
DESCRIPTION:
URL:https://archive.theatrewomen.org/event/members-night-out-5/
CATEGORIES:Networking
END:VEVENT
END:VCALENDAR