BEGIN:VCALENDAR
VERSION:2.0
PRODID:-//League of Professional Theatre Women - ECPv4.2.7//NONSGML v1.0//EN
CALSCALE:GREGORIAN
METHOD:PUBLISH
X-WR-CALNAME:League of Professional Theatre Women
X-ORIGINAL-URL:https://archive.theatrewomen.org
X-WR-CALDESC:Events for League of Professional Theatre Women
BEGIN:VEVENT
DTSTART;TZID=America/New_York:20191118T180000
DTEND;TZID=America/New_York:20191118T210000
DTSTAMP:20260423T134717
CREATED:20191104T230156
LAST-MODIFIED:20191104T230156
UID:14107-1574100000-1574110800@archive.theatrewomen.org
SUMMARY:Members' Night Out
DESCRIPTION:St. Patrick’s Bar & Grille\n\n22 W. 46th Street\n\nBetween 5th and 6th Avenues\n\nJoin the conversation at Members Night Out as we socialize\, network\, and have fun with fellow theatre women!\n\nTher's no cover\, and happy hour specials will also be available. This invitation extends to non-members\, so your friends and colleagues are welcome.\n\nSee you there - and remember to bring your business cards!\n\n \n\n 
URL:https://archive.theatrewomen.org/event/members-night-out-3/
LOCATION:22 W. 46th Street\, New York\, NY\, 10036\, United States
CATEGORIES:Networking
ATTACH;FMTTYPE=image/png:https://archive.theatrewomen.org/wp-content/uploads/2019/11/Capture-e1579642507506.png
END:VEVENT
END:VCALENDAR