BEGIN:VCALENDAR
VERSION:2.0
PRODID:-//League of Professional Theatre Women - ECPv4.2.7//NONSGML v1.0//EN
CALSCALE:GREGORIAN
METHOD:PUBLISH
X-WR-CALNAME:League of Professional Theatre Women
X-ORIGINAL-URL:https://archive.theatrewomen.org
X-WR-CALDESC:Events for League of Professional Theatre Women
BEGIN:VEVENT
DTSTART;TZID=America/New_York:20130923T180000
DTEND;TZID=America/New_York:20130923T200000
DTSTAMP:20260425T150741
CREATED:20141212T011351
LAST-MODIFIED:20141212T011357
UID:3449-1379959200-1379966400@archive.theatrewomen.org
SUMMARY:LPTW Season Launch
DESCRIPTION:The LPTW 2013-2014 Season Launch\nMonday\, September 23rd - 6PM to 8PM\nat TheatreLab NYC\n357 West 36th Street\, 3rd Floor\n\nJoin us for our first event of the season. We'll outline new programs\, committees\, and events\, and welcome the new LPTW board and staff members. A great night to meet old friends\, new members\, and get involved!\n\nWine\, sodas\, and appetizers will be served.\n\nThis event is FREE to all Members and is Members Only.\n\nRSVP to Susan Bernfield\, VP Programming at programs@theatrewomen.org.
URL:https://archive.theatrewomen.org/event/lptw-season-launch-monday-september-23-at-6pm/
LOCATION:357 West 36th Street\, 3rd Floor\, New York\, NY\, 10018\, United States
GEO:40.7545052;-73.9946137
X-APPLE-STRUCTURED-LOCATION;VALUE=URI;X-ADDRESS=357 West 36th Street 3rd Floor New York NY 10018 United States;X-APPLE-RADIUS=500;X-TITLE=357 West 36th Street\, 3rd Floor:geo:-73.9946137,40.7545052
END:VEVENT
END:VCALENDAR