BEGIN:VCALENDAR
VERSION:2.0
PRODID:-//League of Professional Theatre Women - ECPv4.2.7//NONSGML v1.0//EN
CALSCALE:GREGORIAN
METHOD:PUBLISH
X-WR-CALNAME:League of Professional Theatre Women
X-ORIGINAL-URL:https://archive.theatrewomen.org
X-WR-CALDESC:Events for League of Professional Theatre Women
BEGIN:VEVENT
DTSTART;TZID=America/New_York:20191209T183000
DTEND;TZID=America/New_York:20191209T210000
DTSTAMP:20260423T150323
CREATED:20191108T163705
LAST-MODIFIED:20191201T192832
UID:14121-1575916200-1575925200@archive.theatrewomen.org
SUMMARY:LPTW 2019 Holiday Party
DESCRIPTION:Monday\, December 9th\n6:30 – 9PM\n\nSky Top Roof\n400 East 56th Street\nBetween 1st Avenue & Sutton Place\n\nJoin Us As We Toast To You\, Our Members!\n\nLet’s celebrate the gift of advocacy we shared and received.\n\nCLICK HERE FOR TICKETS\nAdmission: $15 \n\nNon-members are welcome\, so bring a friend!\nTickets will be required for all guests.\n\nBring postcards and flyers for our Shameless Self-Promotion table and business cards to share with other members.
URL:https://archive.theatrewomen.org/event/lptw-2019-holiday-party/
LOCATION:400 East 56th Street\, New York\, NY\, 10022\, United States
ATTACH;FMTTYPE=image/jpeg:https://archive.theatrewomen.org/wp-content/uploads/2019/11/896179-bigthumbnail.jpg
END:VEVENT
END:VCALENDAR