BEGIN:VCALENDAR
VERSION:2.0
PRODID:-//League of Professional Theatre Women - ECPv4.2.7//NONSGML v1.0//EN
CALSCALE:GREGORIAN
METHOD:PUBLISH
X-WR-CALNAME:League of Professional Theatre Women
X-ORIGINAL-URL:https://archive.theatrewomen.org
X-WR-CALDESC:Events for League of Professional Theatre Women
BEGIN:VEVENT
DTSTART;TZID=America/New_York:20150519T190000
DTEND;TZID=America/New_York:20150519T210000
DTSTAMP:20260424T225702
CREATED:20150504T173640
LAST-MODIFIED:20150506T143538
UID:4013-1432062000-1432069200@archive.theatrewomen.org
SUMMARY:Julia's Reading Room
DESCRIPTION:Tuesday\, May 19th at 7pm\n \n\n"First By Faith: The Life of Mary McLeod Bethune"\n \nWritten and Performed by Richarda Abrams (Board Member & Networking Committee Co-Chair)\n \nDirected by Lorca Peress (Former LPTW Co-President)\n \n\n"Mary McLeod Bethune\, great feminist\, activist\, presidential advisor and educator\, returns to us\, "her future" with a lesson in faith\, determination and perseverance for us all."\n \n\nPlease RSVP for location: JRR@theatrewomen.org
URL:https://archive.theatrewomen.org/event/julias-reading-room/
LOCATION:New York\, United States
END:VEVENT
END:VCALENDAR