BEGIN:VCALENDAR
VERSION:2.0
PRODID:-//League of Professional Theatre Women - ECPv4.2.7//NONSGML v1.0//EN
CALSCALE:GREGORIAN
METHOD:PUBLISH
X-WR-CALNAME:League of Professional Theatre Women
X-ORIGINAL-URL:https://archive.theatrewomen.org
X-WR-CALDESC:Events for League of Professional Theatre Women
BEGIN:VEVENT
DTSTART;TZID=America/New_York:20200129T180000
DTEND;TZID=America/New_York:20200129T200000
DTSTAMP:20260423T174345
CREATED:20200121T192128
LAST-MODIFIED:20200121T211020
UID:14239-1580320800-1580328000@archive.theatrewomen.org
SUMMARY:JULIA’S READING ROOM – WINTER KILL
DESCRIPTION:Thursday\, January 29\n6PM – 8PM\n\nJefferson Market Library\n425 Avenue of the Americas \n\nBetween 9th & 10th Streets \n\n \n\nWinter Kill\nWritten and Performed by LPTW Member\, Denise B. Flemming\n\nPreviously Directed by Paula J. Riley (January 1st\, 1943-July 7th\, 2018)\n\nFree and Open to the Public\n\nWhen a cold case is re-investigated a successful professor's past becomes the subject of suspicion for a tenacious detective. Door's are opened and darkness is revealed.\n\nRSVP:\nJRR@theatrewomen.org
URL:https://archive.theatrewomen.org/event/julias-reading-room-winter-kill/
LOCATION:425 Avenue of the Americas  \, New York\, 10011\, United States
CATEGORIES:Julia's Reading Room
ATTACH;FMTTYPE=image/png:https://archive.theatrewomen.org/wp-content/uploads/2020/01/Winterkill-Take-2-e1579640979432.png
END:VEVENT
END:VCALENDAR