BEGIN:VCALENDAR
VERSION:2.0
PRODID:-//League of Professional Theatre Women - ECPv4.2.7//NONSGML v1.0//EN
CALSCALE:GREGORIAN
METHOD:PUBLISH
X-WR-CALNAME:League of Professional Theatre Women
X-ORIGINAL-URL:https://archive.theatrewomen.org
X-WR-CALDESC:Events for League of Professional Theatre Women
BEGIN:VEVENT
DTSTART;TZID=America/New_York:20141118T190000
DTEND;TZID=America/New_York:20141118T210000
DTSTAMP:20260425T035309
CREATED:20141208T211847
LAST-MODIFIED:20141208T215109
UID:3271-1416337200-1416344400@archive.theatrewomen.org
SUMMARY:Julia's Reading Room
DESCRIPTION:Julia's Reading Room\, developed by Julia Miles\, founder of the Women's Project\, provides the unique opportunity for any League member to hear and observe work in its early stages.\nThe next Julia's Reading Room will feature Robin Rice Lichtig's play Gently Down the Stream.\n\nGENTLY DOWN THE STREAM is true. Trapped in New York City\, Turbo the cat wants desperately to return to Vermont to his Dear One. His struggles intertwine with those of humans he's forced to live with in this story of love\, loss and newborn hope.\n\nTuesday\, November 18 at 7pm\n670 West End Avenue at 93rd Street\nPlease contact jrr@theatrewomen.org for more information.
URL:https://archive.theatrewomen.org/event/julias-reading-room-tuesday-november-18/
LOCATION:670 West End Avenue\, New York\, NY\, 10025\, United States
GEO:40.792963;-73.974349
X-APPLE-STRUCTURED-LOCATION;VALUE=URI;X-ADDRESS=670 West End Avenue New York NY 10025 United States;X-APPLE-RADIUS=500;X-TITLE=670 West End Avenue:geo:-73.974349,40.792963
CATEGORIES:Julia's Reading Room
END:VEVENT
END:VCALENDAR