BEGIN:VCALENDAR
VERSION:2.0
PRODID:-//League of Professional Theatre Women - ECPv4.2.7//NONSGML v1.0//EN
CALSCALE:GREGORIAN
METHOD:PUBLISH
X-WR-CALNAME:League of Professional Theatre Women
X-ORIGINAL-URL:https://archive.theatrewomen.org
X-WR-CALDESC:Events for League of Professional Theatre Women
BEGIN:VEVENT
DTSTART;TZID=America/New_York:20191031T180000
DTEND;TZID=America/New_York:20191031T200000
DTSTAMP:20260423T120145
CREATED:20190903T172445
LAST-MODIFIED:20191021T203540
UID:13794-1572544800-1572552000@archive.theatrewomen.org
SUMMARY:JULIA’S READING ROOM – TIME WILL TELL
DESCRIPTION:Thursday\, October 31\n6PM – 8PM\n\nGrand Central Library\n135 E 46th Street\nBetween Lexington & 3rd Avenues\n\nTime Will Tell\nBy LPTW Member Kristen Lowman\nDirected by LPTW Member Glory Kadigan\n\nFree and Open to the Public\n\nFrom the Texas Gulf in 1969\, to the Hollywood Hills in 1999\, to a Central Park bench in 2003\, each of six women tells her story and\, together\, they weave a tale none of them could have imagine\nCast\n\nLiz - Mary Monahan\nAdelle - Lori Kee\nRita - Delphi Harrington\nViolet - Gabriella Campagna\nSarah - Joyce Miller \nZola - Kailah S. King \n\n \n\nRSVP:\nJRR@theatrewomen.org\n
URL:https://archive.theatrewomen.org/event/julias-reading-room-time-will-tell/
LOCATION:135 E 46th St. \, New York\, NY\, 10017
CATEGORIES:Julia's Reading Room
ATTACH;FMTTYPE=image/jpeg:https://archive.theatrewomen.org/wp-content/uploads/2019/09/Capture.jpg
END:VEVENT
END:VCALENDAR