BEGIN:VCALENDAR
VERSION:2.0
PRODID:-//League of Professional Theatre Women - ECPv4.2.7//NONSGML v1.0//EN
CALSCALE:GREGORIAN
METHOD:PUBLISH
X-WR-CALNAME:League of Professional Theatre Women
X-ORIGINAL-URL:https://archive.theatrewomen.org
X-WR-CALDESC:Events for League of Professional Theatre Women
BEGIN:VEVENT
DTSTART;TZID=America/New_York:20200219T180000
DTEND;TZID=America/New_York:20200219T200000
DTSTAMP:20260423T150856
CREATED:20200204T220524
LAST-MODIFIED:20200204T220524
UID:14359-1582135200-1582142400@archive.theatrewomen.org
SUMMARY:Julia's Reading Room - ONE EYE
DESCRIPTION:Wednesday\, February 19\n6:00PM–8:00PM\n\nNew Perspectives Theatre Company\n456 W 37th St\nBetween 9th & 10th Avenues\n\nOne Eye\nWritten by LPTW Member Kat Mustatea\n\nArgus is a one-eyed cyclops who tries to fit into Manhattan society by getting plastic surgery to have a second eye implanted into his head—but at what price do we change ourselves to fit someone else's idea of beauty?\n\nAttendance is free. For reservations\, please email: \nJRR@TheatreWomen.org
URL:https://archive.theatrewomen.org/event/julias-reading-room-one-eye/
LOCATION:456 W 37th St\, New York\, NY\, United States
CATEGORIES:Julia's Reading Room
ATTACH;FMTTYPE=image/png:https://archive.theatrewomen.org/wp-content/uploads/2020/02/Screen-Shot-2020-02-04-at-4.49.37-PM-e1580853905820.png
END:VEVENT
END:VCALENDAR