BEGIN:VCALENDAR
VERSION:2.0
PRODID:-//League of Professional Theatre Women - ECPv4.2.7//NONSGML v1.0//EN
CALSCALE:GREGORIAN
METHOD:PUBLISH
X-WR-CALNAME:League of Professional Theatre Women
X-ORIGINAL-URL:https://archive.theatrewomen.org
X-WR-CALDESC:Events for League of Professional Theatre Women
BEGIN:VEVENT
DTSTART;TZID=America/New_York:20141021T190000
DTEND;TZID=America/New_York:20141021T210000
DTSTAMP:20260425T035140
CREATED:20141208T211413
LAST-MODIFIED:20141208T215109
UID:3270-1413918000-1413925200@archive.theatrewomen.org
SUMMARY:Julia's Reading Room
DESCRIPTION:On Octber 21st\, Julia's Reading Room held a reading of:\n\nThe Slippers of Alexander the Great\nby Jenny Lyn Bader\n\nWhat happens when the person you love asks you to give up everything you believe in?\nCan truth survive in a world of fakes?\n\nA scholar who proposes to his girlfriend is about to find out.\n\nJulie's Reading  Room\, developed by Julia Miles\, founder of the Women's Project\, provides the unique opportunity for any League member to hear and observe their early work.
URL:https://archive.theatrewomen.org/event/julias-reading-room-oct-21-at-7pm/
LOCATION:New York\, United States
CATEGORIES:Julia's Reading Room
END:VEVENT
END:VCALENDAR