BEGIN:VCALENDAR
VERSION:2.0
PRODID:-//League of Professional Theatre Women - ECPv4.2.7//NONSGML v1.0//EN
CALSCALE:GREGORIAN
METHOD:PUBLISH
X-WR-CALNAME:League of Professional Theatre Women
X-ORIGINAL-URL:https://archive.theatrewomen.org
X-WR-CALDESC:Events for League of Professional Theatre Women
BEGIN:VEVENT
DTSTART;TZID=America/New_York:20191121T180000
DTEND;TZID=America/New_York:20191121T200000
DTSTAMP:20260423T134906
CREATED:20190903T172641
LAST-MODIFIED:20190903T172831
UID:13800-1574359200-1574366400@archive.theatrewomen.org
SUMMARY:JULIA’S READING ROOM – Briar Rose
DESCRIPTION:Thursday\, November 21\n6PM – 8PM\n\nGrand Central Library\n135 E 46th Street\nBetween Lexington & 3rd Avenues\n\nBRIAR ROSE\nThe Untold Story of Sleeping Beauty\nBook by LPTW member Deborah Savadge\nMusic & Lyrics by LPTW Members Debra Barsha & Sheilah Rae\n\nFree and Open to the Public\n\nThis updated fairy tale introduces a Princess who is too sharp to prick her finger on a spindle. Magic\, Wise Women\, acrobatics and a Frog.\n\nRSVP:\nJRR@theatrewomen.org
URL:https://archive.theatrewomen.org/event/julias-reading-room-briar-rose/
LOCATION:135 E 46th St. \, New York\, NY\, 10017
CATEGORIES:Julia's Reading Room
ATTACH;FMTTYPE=image/jpeg:https://archive.theatrewomen.org/wp-content/uploads/2019/09/Capture1.jpg
END:VEVENT
END:VCALENDAR