BEGIN:VCALENDAR
VERSION:2.0
PRODID:-//League of Professional Theatre Women - ECPv4.2.7//NONSGML v1.0//EN
CALSCALE:GREGORIAN
METHOD:PUBLISH
X-WR-CALNAME:League of Professional Theatre Women
X-ORIGINAL-URL:https://archive.theatrewomen.org
X-WR-CALDESC:Events for League of Professional Theatre Women
BEGIN:VEVENT
DTSTART;TZID=America/New_York:20200924T180000
DTEND;TZID=America/New_York:20200924T200000
DTSTAMP:20260423T204152
CREATED:20200910T183550
LAST-MODIFIED:20200911T152438
UID:14843-1600970400-1600977600@archive.theatrewomen.org
SUMMARY:Julia's Reading Room
DESCRIPTION:The Shakers of Mount Lebanon Will Hold a Peace Conference This Month\nby Arlene Hutton
URL:https://archive.theatrewomen.org/event/julias-reading-room-7/
CATEGORIES:Julia's Reading Room
END:VEVENT
END:VCALENDAR