BEGIN:VCALENDAR
VERSION:2.0
PRODID:-//League of Professional Theatre Women - ECPv4.2.7//NONSGML v1.0//EN
CALSCALE:GREGORIAN
METHOD:PUBLISH
X-WR-CALNAME:League of Professional Theatre Women
X-ORIGINAL-URL:https://archive.theatrewomen.org
X-WR-CALDESC:Events for League of Professional Theatre Women
BEGIN:VEVENT
DTSTART;TZID=America/New_York:20210520T180000
DTEND;TZID=America/New_York:20210520T200000
DTSTAMP:20260424T033024
CREATED:20200911T140730
LAST-MODIFIED:20200911T140730
UID:14904-1621533600-1621540800@archive.theatrewomen.org
SUMMARY:Julia's Reading Room
DESCRIPTION:
URL:https://archive.theatrewomen.org/event/julias-reading-room-19/
CATEGORIES:Julia's Reading Room
END:VEVENT
END:VCALENDAR