BEGIN:VCALENDAR
VERSION:2.0
PRODID:-//League of Professional Theatre Women - ECPv4.2.7//NONSGML v1.0//EN
CALSCALE:GREGORIAN
METHOD:PUBLISH
X-WR-CALNAME:League of Professional Theatre Women
X-ORIGINAL-URL:https://archive.theatrewomen.org
X-WR-CALDESC:Events for League of Professional Theatre Women
BEGIN:VEVENT
DTSTART;TZID=America/New_York:20210325T180000
DTEND;TZID=America/New_York:20210325T200000
DTSTAMP:20260424T050405
CREATED:20200911T140606
LAST-MODIFIED:20200911T140606
UID:14900-1616695200-1616702400@archive.theatrewomen.org
SUMMARY:Julia's Reading Room
DESCRIPTION:
URL:https://archive.theatrewomen.org/event/julias-reading-room-17/
CATEGORIES:Julia's Reading Room
END:VEVENT
END:VCALENDAR