BEGIN:VCALENDAR
VERSION:2.0
PRODID:-//League of Professional Theatre Women - ECPv4.2.7//NONSGML v1.0//EN
CALSCALE:GREGORIAN
METHOD:PUBLISH
X-WR-CALNAME:League of Professional Theatre Women
X-ORIGINAL-URL:https://archive.theatrewomen.org
X-WR-CALDESC:Events for League of Professional Theatre Women
BEGIN:VEVENT
DTSTART;TZID=America/New_York:20210225T180000
DTEND;TZID=America/New_York:20210225T200000
DTSTAMP:20260424T091626
CREATED:20200911T140506
LAST-MODIFIED:20210210T200622
UID:14896-1614276000-1614283200@archive.theatrewomen.org
SUMMARY:Julia's Reading Room
DESCRIPTION:BEDROOM FARCE: RELOADED written and directed by Yvette Heyliger\n\n\n“What brings a couple of cisgender swingers\, their gay son\, his new husband\, a transwoman and her closeted boyfriend all together one fateful night?”  \n\n\n\n
URL:https://archive.theatrewomen.org/event/julias-reading-room-16/
CATEGORIES:Julia's Reading Room
END:VEVENT
END:VCALENDAR