BEGIN:VCALENDAR
VERSION:2.0
PRODID:-//League of Professional Theatre Women - ECPv4.2.7//NONSGML v1.0//EN
CALSCALE:GREGORIAN
METHOD:PUBLISH
X-WR-CALNAME:League of Professional Theatre Women
X-ORIGINAL-URL:https://archive.theatrewomen.org
X-WR-CALDESC:Events for League of Professional Theatre Women
BEGIN:VEVENT
DTSTART;TZID=America/New_York:20210121T180000
DTEND;TZID=America/New_York:20210121T200000
DTSTAMP:20260424T093058
CREATED:20200911T135350
LAST-MODIFIED:20210107T182802
UID:14882-1611252000-1611259200@archive.theatrewomen.org
SUMMARY:Julia’s Reading Room
DESCRIPTION:\nFOR THE LOVE OF ME\nBy Kate McLeod\nDirected by Alisa Matlovsky\n1886: A young woman packs her dreams\, her beliefs and her determination\, boards a coffin ship and lands in the rat-infested streets of New York City. She finds work at a famous household in the Hudson Valley\, on her knees scrubbing floors. A young man\, who has made the same journey tends the barn animals. His conversations with the horses give him an idea: write a book! A Catholic priest\, intent on saving souls\, pays particular attention to the Irish servants residing in Protestant households. The Church is a weapon against faithlessness and he is the savior. What happens when these three souls cross paths? What happens to the dreams and deep-seated beliefs when confronted with the realities of class\, ambition and vulnerable human drive?\n\n \nTHURSDAY\, JANUARY 21ST AT 6:00 PM\n \nRSVP here: https://forms.gle/SdbhRwjx77rpvKNi6\n \n\n \n\n 
URL:https://archive.theatrewomen.org/event/julias-reading-room-15/
CATEGORIES:Julia's Reading Room
END:VEVENT
END:VCALENDAR