BEGIN:VCALENDAR
VERSION:2.0
PRODID:-//League of Professional Theatre Women - ECPv4.2.7//NONSGML v1.0//EN
CALSCALE:GREGORIAN
METHOD:PUBLISH
X-WR-CALNAME:League of Professional Theatre Women
X-ORIGINAL-URL:https://archive.theatrewomen.org
X-WR-CALDESC:Events for League of Professional Theatre Women
BEGIN:VEVENT
DTSTART;TZID=America/New_York:20201119T180000
DTEND;TZID=America/New_York:20201119T200000
DTSTAMP:20260424T050451
CREATED:20200911T134646
LAST-MODIFIED:20201116T221042
UID:14866-1605808800-1605816000@archive.theatrewomen.org
SUMMARY:Julia’s Reading Room
DESCRIPTION:SAINT UNDER GLASS:\nMYSTIC OR MARTYR?\n\n \nA play by Amy Drake\nDirected by Kevin Davis\n \nSt. Margaret wasn’t always a saint. She ran off\nwith a nobleman\, lived with her lover\, and had a baby\nout of wedlock. Then\, she began having religious visions.\nMiracles have been attributed to her. Were they real?\nIn death she still appears to be sleeping.\nMystic or martyr? You decide.\n \nRSVP to jrr@theatrewomen.org to receive the Zoom link.
URL:https://archive.theatrewomen.org/event/julias-reading-room-13/
CATEGORIES:Julia's Reading Room
ORGANIZER;CN="":MAILTO:jrr@theatrewomen.org
END:VEVENT
END:VCALENDAR