BEGIN:VCALENDAR
VERSION:2.0
PRODID:-//League of Professional Theatre Women - ECPv4.2.7//NONSGML v1.0//EN
CALSCALE:GREGORIAN
METHOD:PUBLISH
X-WR-CALNAME:League of Professional Theatre Women
X-ORIGINAL-URL:https://archive.theatrewomen.org
X-WR-CALDESC:Events for League of Professional Theatre Women
BEGIN:VEVENT
DTSTART;VALUE=DATE:20210218
DTEND;VALUE=DATE:20210218
DTSTAMP:20260424T142244
CREATED:20200911
LAST-MODIFIED:20210210
UID:14888-1613606400-1613692799@archive.theatrewomen.org
SUMMARY:GC Event: Women On Stage and In The Streets: Three Leading Beiruti Theatremakers
DESCRIPTION:Co-hosted by the Lebanese American University\, New York Academic Center\, this intimate and revealing discussion explores the challenges and rewards of making theater in Beirut; of being women leaders in the arts; and creating work that confronts domestic violence\, political corruption and the plight of refugees.\n\nModerator: Catherine Coray\, New York University Professor and Lebanese American Curator\n\nPanelists:\n\n \tHanane Hajj Ali (Gilder/Coigney Award-winner)\n \tMaya Zbib (GCITA 2014 and 2020 Finalist)\n \tLina Abyad (Award-winning theatre artist)\n\nREGISTER HERE
URL:https://archive.theatrewomen.org/event/gilder-coigney-event-panel-of-lebanese-artists/
END:VEVENT
END:VCALENDAR