BEGIN:VCALENDAR
VERSION:2.0
PRODID:-//League of Professional Theatre Women - ECPv4.2.7//NONSGML v1.0//EN
CALSCALE:GREGORIAN
METHOD:PUBLISH
X-WR-CALNAME:League of Professional Theatre Women
X-ORIGINAL-URL:https://archive.theatrewomen.org
X-WR-CALDESC:Events for League of Professional Theatre Women
BEGIN:VEVENT
DTSTART;TZID=America/New_York:20190628T193000
DTEND;TZID=America/New_York:20190721T140000
DTSTAMP:20260423T135140
CREATED:20190614T144139
LAST-MODIFIED:20190614T144139
UID:13493-1561750200-1563717600@archive.theatrewomen.org
SUMMARY:First By Faith: The Life Of Mary McLeod Bethune written and performed by Richarda Abrams
DESCRIPTION:Developed in Julia's Reading Room from 2015-2017\, Performer/Playwright/Producer\, former LPTW Board Member Richarda Abrams uses storytelling and song\, transcending time and gender\, explores Mary McLeod Bethune’s personal journey beginning as an uneducated child\, to becoming a world renown educator and humanitarian\, as she returns to earth sharing one last lesson. Winner of the 2018 United Solo Theatre Festival's "Best Educational Show Award". First By Faith: The Life Of Mary McLeod Bethune is made possible in part with public funds from Creative Engagement\, supported by the New York City Department of Cultural Affairs in partnership with the City Council and administered by LMCC. First By Faith: The Life of Mary McLeod Bethune is a fiscally sponsored project of New York Foundation for the Arts.\n\n"First By Faith: The Life of Mary McLeod Bethune”\nwritten and performed by Richarda Abrams\nDirector: Dina Vovsi\nMusic Director: Amina Claudine Myers\nCostume Designer: Sally Lesser\nLighting Designer: Alex Moore\nLighting/Sound Board Operator: Brittani Murphy\nJune 28\, 2019—July 21\, 2019\nThe West End Theatre at The Church of St. Paul & St. Andrew\n263 West 86th Street\, 2nd floor\nNew York City\nGeneral Admission: $25.00\nSeniors/Students: $14.00
URL:https://archive.theatrewomen.org/event/first-by-faith-the-life-of-mary-mcleod-bethune-written-and-performed-by-richarda-abrams-2/
LOCATION:West 86th Street\, New York\, NY\,  10024\, United States
CATEGORIES:Member News & Events
ATTACH;FMTTYPE=image/jpeg:https://archive.theatrewomen.org/wp-content/uploads/2019/06/70631ef1-b17d-4a00-9f76-7b786c6712f3_full.jpg
ORGANIZER;CN="Richarda%20Abrams":MAILTO:richarda@richardaabrams.com
END:VEVENT
END:VCALENDAR