BEGIN:VCALENDAR
VERSION:2.0
PRODID:-//League of Professional Theatre Women - ECPv4.2.7//NONSGML v1.0//EN
CALSCALE:GREGORIAN
METHOD:PUBLISH
X-WR-CALNAME:League of Professional Theatre Women
X-ORIGINAL-URL:https://archive.theatrewomen.org
X-WR-CALDESC:Events for League of Professional Theatre Women
BEGIN:VEVENT
DTSTART;TZID=America/New_York:20140508T173000
DTEND;TZID=America/New_York:20140508T173000
DTSTAMP:20260425T120137
CREATED:20141210T035819
LAST-MODIFIED:20141212T013804
UID:3374-1399570200-1399570200@archive.theatrewomen.org
SUMMARY:Equality Parade
DESCRIPTION:\n\nVISIBILITY ~ ADVOCACY ~ EQUALITY\n\nMarch in the Second Annual Women Stage the World Equality Parade\n\nThursday\, May 8th\nArrival: 5:30 pm\, (tunnel at Circle in the Square 50-51st\, Bway-8th Ave)\n\nDress: in the costume of a famous theatre woman or in white\, purple or black.\nRAIN OR SHINE\n\nSign in: Suffrage-style sashes will be issued to the first 70 people to arrive\n\nSong: Sheilah Rae has composed MARCH ON for our parade.\n\nThe team will distribute signs. (Or bring a sign that says\, "NAME OF MY ORGANIZATION Supports Equality.")\n\n \n\nAGENDA:\n\n5:55PM - photo and video opportunity\n\n6:00PM - The Parade steps off\, led by League of Professional Theatre Women Co-Presidents\n\nThe parade will snake through the Bway district including Times Square and Shubert Alley.\n\nCheck the Women Stage the World FACEBOOK page for updates\n\nRSVP to our Board liaison/Stage Manager: Judy Binus jbin711@gmail.com\n\nWomen Stage the World Steering Committee:\nDeborah Savadge\, Fengar Gael\, Janice Maffei and Yana Landowne\n\nSee you there!\nSpread the word! All are welcome! Support gender equity!\n\n\n\n 
URL:https://archive.theatrewomen.org/event/equality-parade-thursday-may-8-at-530pm/
LOCATION:50-51st\, Bway-8th Ave\, New York\, NY\, 10019\, United States
GEO:40.7644862;-73.9845194
X-APPLE-STRUCTURED-LOCATION;VALUE=URI;X-ADDRESS=50-51st Bway-8th Ave New York NY 10019 United States;X-APPLE-RADIUS=500;X-TITLE=50-51st\, Bway-8th Ave:geo:-73.9845194,40.7644862
END:VEVENT
END:VCALENDAR