BEGIN:VCALENDAR
VERSION:2.0
PRODID:-//League of Professional Theatre Women - ECPv4.2.7//NONSGML v1.0//EN
CALSCALE:GREGORIAN
METHOD:PUBLISH
X-WR-CALNAME:League of Professional Theatre Women
X-ORIGINAL-URL:https://archive.theatrewomen.org
X-WR-CALDESC:Events for League of Professional Theatre Women
BEGIN:VEVENT
DTSTART;TZID=America/New_York:20200117T200000
DTEND;TZID=America/New_York:20200120T190000
DTSTAMP:20260423T145734
CREATED:20191025T162301
LAST-MODIFIED:20191025T162301
UID:14013-1579291200-1579546800@archive.theatrewomen.org
SUMMARY:Down To Eartha
DESCRIPTION:Synopsis\nIn 1968 while at the height of her career as a world renowned entertainer\, Eartha Kitt was also working as one of the main lobbyist for a group of young activists called the Rebels With A Cause. During this time\, Miss Kitt was then invited to the White House by Lady Bird Johnson to partake in a womens luncheon to discuss the issue of the rising crime rates in America. At the luncheon however\, when Eartha stood up and expressed her views\, stating that the increase in crime was mostly due to Americas involvement in the Vietnam War\, Lady Bird Johnson was personally insulted by the comment and shortly after\, by order of President Lyndon Johnson\, Eartha Kitt was blacklisted from work in the United States for the following 10 years! DOWN TO EARTHA is a one woman show written and performed by Dierdra McDowell\, and directed by Marishka S. Phillips. In one act filled with drama and music\, this play explores Eartha Kitts personal re-encounter of that fateful day in detail. It also delves into her personal journey back to her power and freedom. Stemming from a life ridden with years of child abuse\, Earthas personal journey proves to be at times a nightmare of a hurdle! It is one that could only be conquered by the power of love.
URL:https://archive.theatrewomen.org/event/down-to-eartha/
LOCATION:258 St. Nicholas Avenue\, New York\, NY\, 10027\, United States
CATEGORIES:Member News & Events
ATTACH;FMTTYPE=image/jpeg:https://archive.theatrewomen.org/wp-content/uploads/2019/10/dte-dwyer-flyer-2.jpg
ORGANIZER;CN="Marishka%20S.%20Phllips":MAILTO:ThePreparatoryLLC@gmail.com
END:VEVENT
END:VCALENDAR