BEGIN:VCALENDAR
VERSION:2.0
PRODID:-//League of Professional Theatre Women - ECPv4.2.7//NONSGML v1.0//EN
CALSCALE:GREGORIAN
METHOD:PUBLISH
X-WR-CALNAME:League of Professional Theatre Women
X-ORIGINAL-URL:https://archive.theatrewomen.org
X-WR-CALDESC:Events for League of Professional Theatre Women
BEGIN:VEVENT
DTSTART;TZID=America/New_York:20150610T113000
DTEND;TZID=America/New_York:20150610T133000
DTSTAMP:20211020T174150
CREATED:20150603T195815
LAST-MODIFIED:20150604T172752
UID:4090-1433935800-1433943000@archive.theatrewomen.org
SUMMARY:Discipline Circle Meeting: Directors
DESCRIPTION:Directors meet informally to discuss whatever is on their minds and how to develop and promote their work. All League directors welcome.\n\nMeets monthly\, with a summer hiatus during July and August.\nNEXT MEETING:\nJune 10th\, 11:30am to 1:30pm\,Â Signature Theater Lounge\,Â 480 W 42nd St\, New York\, NY 10036.\n \n\n 
URL:https://archive.theatrewomen.org/event/discipline-circle-meeting-directors/
LOCATION:New York\, United States
ATTACH;FMTTYPE=image/jpeg:https://archive.theatrewomen.org/wp-content/uploads/2015/06/logo.jpg
END:VEVENT
END:VCALENDAR