BEGIN:VCALENDAR
VERSION:2.0
PRODID:-//League of Professional Theatre Women - ECPv4.2.7//NONSGML v1.0//EN
CALSCALE:GREGORIAN
METHOD:PUBLISH
X-WR-CALNAME:League of Professional Theatre Women
X-ORIGINAL-URL:https://archive.theatrewomen.org
X-WR-CALDESC:Events for League of Professional Theatre Women
BEGIN:VEVENT
DTSTART;VALUE=DATE:20201110
DTEND;VALUE=DATE:20201110
DTSTAMP:20260424T032855
CREATED:20200911
LAST-MODIFIED:20200911
UID:14862-1604966400-1605052799@archive.theatrewomen.org
SUMMARY:CT Chapter—Noon on Zoom
DESCRIPTION:“Thinking Inside the Box—Rethinking Live Theatre #1"
URL:https://archive.theatrewomen.org/event/ct-chapter-noon-on-zoom/
END:VEVENT
END:VCALENDAR