BEGIN:VCALENDAR
VERSION:2.0
PRODID:-//League of Professional Theatre Women - ECPv4.2.7//NONSGML v1.0//EN
CALSCALE:GREGORIAN
METHOD:PUBLISH
X-WR-CALNAME:League of Professional Theatre Women
X-ORIGINAL-URL:https://archive.theatrewomen.org
X-WR-CALDESC:Events for League of Professional Theatre Women
BEGIN:VEVENT
DTSTART;TZID=America/New_York:20201204T120000
DTEND;TZID=America/New_York:20201204T150000
DTSTAMP:20260424T062345
CREATED:20200911T134739
LAST-MODIFIED:20201201T211605
UID:14870-1607083200-1607094000@archive.theatrewomen.org
SUMMARY:CT Chapter: Holiday Get-Together
DESCRIPTION:We will network and enjoy wonderful videos submitted by Chapter members. Don't miss this great opportunity to meet up with Connecticut theater women and enjoy some holiday cheer (we all could use some of that!)\n\nFriday\, Dec. 4\nnoon (Eastern)\nThe Zoom link will be sent to those who register. RSVP here: https://www.eventbrite.com/e/ct-chapter-holiday-get-together-tickets-119519836047
URL:https://archive.theatrewomen.org/event/ct-chapter-holiday-get-together/
END:VEVENT
END:VCALENDAR