BEGIN:VCALENDAR
VERSION:2.0
PRODID:-//League of Professional Theatre Women - ECPv4.2.7//NONSGML v1.0//EN
CALSCALE:GREGORIAN
METHOD:PUBLISH
X-WR-CALNAME:League of Professional Theatre Women
X-ORIGINAL-URL:https://archive.theatrewomen.org
X-WR-CALDESC:Events for League of Professional Theatre Women
BEGIN:VEVENT
DTSTART;TZID=America/New_York:20190926T193000
DTEND;TZID=America/New_York:20191027T223000
DTSTAMP:20260423T122011
CREATED:20190610T204923
LAST-MODIFIED:20190610T204923
UID:13484-1569526200-1572215400@archive.theatrewomen.org
SUMMARY:Chasing Rainbows: The Road to Oz
DESCRIPTION:The story of how Frances Gumm became Judy Garland and won the role of Dorothy in the beloved movie musical The Wizard of Oz.\n\nTickets on sale on August 19th; Check PMP website for times.
URL:https://archive.theatrewomen.org/event/chasing-rainbows-the-road-to-oz/
LOCATION:22 Brookside Drive\, Millburn\, NJ\, 07041\, United States
CATEGORIES:Member News & Events
ATTACH;FMTTYPE=image/png:https://archive.theatrewomen.org/wp-content/uploads/2019/06/header.png
ORGANIZER;CN="Malini%20Singh%20McDonald":MAILTO:malini@theatrebeyondbroadway.com
END:VEVENT
END:VCALENDAR