BEGIN:VCALENDAR
VERSION:2.0
PRODID:-//League of Professional Theatre Women - ECPv4.2.7//NONSGML v1.0//EN
CALSCALE:GREGORIAN
METHOD:PUBLISH
X-WR-CALNAME:League of Professional Theatre Women
X-ORIGINAL-URL:https://archive.theatrewomen.org
X-WR-CALDESC:Events for League of Professional Theatre Women
BEGIN:VEVENT
DTSTART;VALUE=DATE:20190830
DTEND;VALUE=DATE:20190830
DTSTAMP:20260423T121755
CREATED:20190903
LAST-MODIFIED:20190903
UID:13787-1567123200-1567209599@archive.theatrewomen.org
SUMMARY:Call for Designers
DESCRIPTION:Parity Productions is remembering our longtime collaborator\, production designer and beloved LPTW member Meganne George. Meganne was irreplaceable\, but we are looking forward to forging new artistic partnerships with other designers in our community.\n\nWe are currently looking for a production designer or set\, costume\, and props designers for our upcoming production of MIRRORS by Azure D. Osborne-Lee at Next Door at New York Theatre Workshop.\n\nFor this production\, we have committed to hiring only designers who are listed in the Women and TGNC Artists Database\, and we love to work with League members whenever possible. Please email your resume to emily@parityproductions.org to be considered.\n\nNot in the WTAD? No problem. If you are not listed in the database and qualify for a profile\, click below to submit and email emily@parityproductions.org to let us know you're interested in MIRRORS. https://www.parityproductions.org/get-listed-in-the-database.html
URL:https://archive.theatrewomen.org/event/call-for-designers/
LOCATION:New York\, NY\, United States
CATEGORIES:Member News & Events
ATTACH;FMTTYPE=image/png:https://archive.theatrewomen.org/wp-content/uploads/2019/08/MIRRORS-Designers-call-for-submission.png
ORGANIZER;CN="Parity%20Productions":MAILTO:ludovica@parityproductions.org
END:VEVENT
END:VCALENDAR