BEGIN:VCALENDAR
VERSION:2.0
PRODID:-//League of Professional Theatre Women - ECPv4.2.7//NONSGML v1.0//EN
CALSCALE:GREGORIAN
METHOD:PUBLISH
X-WR-CALNAME:League of Professional Theatre Women
X-ORIGINAL-URL:https://archive.theatrewomen.org
X-WR-CALDESC:Events for League of Professional Theatre Women
BEGIN:VEVENT
DTSTART;VALUE=DATE:20140304
DTEND;VALUE=DATE:20140304
DTSTAMP:20260425T120137
CREATED:20141212
LAST-MODIFIED:20141212
UID:3466-1393891200-1393977599@archive.theatrewomen.org
SUMMARY:Bistro Awards
DESCRIPTION:Save the Date!\nThe 29th Annual Bistro Awards\nwill be held on Tuesday\, March 4 2014\nat the Gotham Comedy Club\, NYC
URL:https://archive.theatrewomen.org/event/bistro-awards-tuesday-march-4/
LOCATION:208 W 23rd Street\, New York\, NY\, 10011\, United States
GEO:40.7440072;-73.9963885
X-APPLE-STRUCTURED-LOCATION;VALUE=URI;X-ADDRESS=208 W 23rd Street New York NY 10011 United States;X-APPLE-RADIUS=500;X-TITLE=208 W 23rd Street:geo:-73.9963885,40.7440072
END:VEVENT
END:VCALENDAR