BEGIN:VCALENDAR
VERSION:2.0
PRODID:-//League of Professional Theatre Women - ECPv4.2.7//NONSGML v1.0//EN
CALSCALE:GREGORIAN
METHOD:PUBLISH
X-WR-CALNAME:League of Professional Theatre Women
X-ORIGINAL-URL:https://archive.theatrewomen.org
X-WR-CALDESC:Events for League of Professional Theatre Women
BEGIN:VEVENT
DTSTART;TZID=America/New_York:20140412T100000
DTEND;TZID=America/New_York:20140412T143000
DTSTAMP:20260425T152000
CREATED:20141212T033215
LAST-MODIFIED:20141212T033407
UID:3474-1397296800-1397313000@archive.theatrewomen.org
SUMMARY:Annual Meeting: Saturday\, April 12
DESCRIPTION:The LPTW Annual Meeting will take place on\nSaturday\, April 12\, 2014\n10:00AM-2:30PM\n\nThe meeting starts at 10AM for voting members; all non-voting members please arrive by 11AM.\n\nPlease RSVP to programs@theatrewomen.org.\n\nAt Pearl Studios\n500 8th Avenue\, 4th floor\n(Between 35th and 36th)\n\nThis meeting is the largest annual gathering of the League and offers an opportunity to get to know each other better\, to discuss the focus of the League in the coming year\, to learn from each other\, and to work together for advocacy and gender parity in our field.\n\n10:00-11:00am:  Full Members Only to vote on By-Laws Revisions.\n\n11:00am: Associates join to Meet the Candidates running for executive office and the Board of Directors.  Please plan to arrive by 11:00 to hear these important women speak.\n\nLunch will be served\, followed by break-out sessions to examine our committees\, programming\, and ways to improve the reach of our work within and outside our community.\n\n[gallery type="rectangular" ids="2357\,2358\,2359\,2360\,2361\,2362\,2363\,2364\,2365"]
URL:https://archive.theatrewomen.org/event/annual-meeting-saturday-april-12/
LOCATION:519 Eighth Avenue\, 12th Floor\, Studio 1214\, New York\, NY\, 10018\, United States
GEO:40.7533969;-73.9930184
X-APPLE-STRUCTURED-LOCATION;VALUE=URI;X-ADDRESS=519 Eighth Avenue 12th Floor Studio 1214 New York NY 10018 United States;X-APPLE-RADIUS=500;X-TITLE=519 Eighth Avenue\, 12th Floor\, Studio 1214:geo:-73.9930184,40.7533969
END:VEVENT
END:VCALENDAR